BEGIN:VCALENDAR
VERSION:2.0
PRODID:-//ExpressionEngine Easy iCalendar plugin//NONSGML v2.0.1//EN
X-WR-TIMEZONE:America/Chicago
X-WR-CALNAME:Upcoming Auctions
BEGIN:VEVENT
UID:144941
DTSTAMP:20250724T090000
DTSTART:20250724T090000
DTEND:20250731T183000
SUMMARY:Massive Contractor\, Farm\, Building Supply & Tool Liquidatio
 n Auction!
LOCATION:4507 Sycamore Rd.\, Caterville\, IL 62918\, US
DESCRIPTION:Tractor • Tools • Cabinets • Materials & More
URL:https://www.ollisauction.com/auctions/detail/bw144941
SEQUENCE:1
END:VEVENT
END:VCALENDAR