BEGIN:VCALENDAR
VERSION:2.0
PRODID:-//ExpressionEngine Easy iCalendar plugin//NONSGML v2.0.1//EN
X-WR-TIMEZONE:America/Chicago
X-WR-CALNAME:Upcoming Auctions
BEGIN:VEVENT
UID:144293
DTSTAMP:20250714T090000
DTSTART:20250714T090000
DTEND:20250721T183000
SUMMARY:Shop & Tool Auction – Power Tools\, Air Compressors\, Ladder
 s\, Hardware Galore!
LOCATION:100 Lick Creek Rd.\, Anna\, IL 62906\, US
DESCRIPTION:From the bench to the barn – a huge mix of practical tools
  and project-ready parts!
URL:https://www.ollisauction.com/auctions/detail/bw144293
SEQUENCE:1
END:VEVENT
END:VCALENDAR