BEGIN:VCALENDAR
VERSION:2.0
PRODID:-//ExpressionEngine Easy iCalendar plugin//NONSGML v2.0.1//EN
X-WR-TIMEZONE:America/Chicago
X-WR-CALNAME:Upcoming Auctions
BEGIN:VEVENT
UID:143119
DTSTAMP:20250710T090000
DTSTART:20250710T090000
DTEND:20250717T183000
SUMMARY:Heavy Duty Deals: Trucks\, Trailers\, Equipment\, Tools & More!
LOCATION:4774 Feather Trail Road\, Olmsted\, IL 62970\, US
DESCRIPTION:Heavy-Duty Rigs • Shop Gear • Trailers • Vehicles & M
 ore Auction Details Location: 4774 Feather Trail Rd.\, Olmste
 d\, IL 62970  Preview: Thursday\, July 17\, 2025 2:00 PM – 5
 :00 PM  Bidding Begins to End: Thursday\, July 17\, 2025 at 6
 :30 PM  Pick Up: Friday\, July 18\, 2025 11:00 AM – 5:30 PM
URL:https://www.ollisauction.com/auctions/detail/bw143119
SEQUENCE:1
END:VEVENT
END:VCALENDAR