BEGIN:VCALENDAR
VERSION:2.0
PRODID:-//ExpressionEngine Easy iCalendar plugin//NONSGML v2.0.1//EN
X-WR-TIMEZONE:America/Chicago
X-WR-CALNAME:Upcoming Auctions
BEGIN:VEVENT
UID:142895
DTSTAMP:20250624T140000
DTSTART:20250624T140000
DTEND:20250722T140000
SUMMARY:Your Opportunity Awaits:  Updated 3-Bedroom Home in Historic
  Rosiclare at Auction
LOCATION:711 McLean Street\, Rosiclare\, IL 62982\, US
DESCRIPTION:3 Bedroom\, 1 Bathroom Home   711 McLean Street\, Rosiclare\, 
 IL 62982   July 22\, 2025 Tuesday 2:00 PM
URL:https://www.ollisauction.com/auctions/detail/bw142895
SEQUENCE:1
END:VEVENT
END:VCALENDAR