BEGIN:VCALENDAR
VERSION:2.0
PRODID:-//ExpressionEngine Easy iCalendar plugin//NONSGML v2.0.1//EN
X-WR-TIMEZONE:America/Chicago
X-WR-CALNAME:Upcoming Auctions
BEGIN:VEVENT
UID:142092
DTSTAMP:20250612T090000
DTSTART:20250612T090000
DTEND:20250619T183000
SUMMARY:Ultimate Shop\, Tool & Mechanics Auction – Power\, Pneumatic
 s & More!
LOCATION:100 Lick Creek Road\, Anna\, IL 62906\, US
DESCRIPTION:A massive online auction featuring everything from Milwaukee
  tools to welders\, compressors\, fishing gear\, and industrial
  chains!
URL:https://www.ollisauction.com/auctions/detail/bw142092
SEQUENCE:1
END:VEVENT
END:VCALENDAR