BEGIN:VCALENDAR
VERSION:2.0
PRODID:-//ExpressionEngine Easy iCalendar plugin//NONSGML v2.0.1//EN
X-WR-TIMEZONE:America/Chicago
X-WR-CALNAME:Upcoming Auctions
BEGIN:VEVENT
UID:140532
DTSTAMP:20250513T163000
DTSTART:20250513T163000
DTEND:20250520T183000
SUMMARY:Estate Variety Auction – Decor\, Tools\, Glass\, Antiques\, Do
 lls & More!
LOCATION:100 Lick Creek Road\, Anna\, IL 62906\, US
DESCRIPTION:LOCATION: 100 Lick Creek Rd.\, Anna\, IL 62906 PREVIEW: May 
 20\, 2025 Tuesday 2:00 pm to 5:00 pm Begins to End: May 20\, 
 2025 Tuesday at 6:30 pm PICK UP: May 21\, 2025 Wednesday from
  11:00 am to 5:30 pm 15% Buyers Premium  Seller(s): Greg A
 tkinson\, Bobbi McCommons\, Mary Connelly\, Rebecca Ausbrooks\, 
 Cody Glueck\, Randy Stewart\, Christina Childers\, David Oliver
 \, Nick Galbraith\, & Jamie Galbraith
URL:https://www.ollisauction.com/auctions/detail/bw140532
SEQUENCE:1
END:VEVENT
END:VCALENDAR