BEGIN:VCALENDAR
VERSION:2.0
PRODID:-//ExpressionEngine Easy iCalendar plugin//NONSGML v2.0.1//EN
X-WR-TIMEZONE:America/Chicago
X-WR-CALNAME:Upcoming Auctions
BEGIN:VEVENT
UID:139929
DTSTAMP:20250703T090000
DTSTART:20250703T090000
DTEND:20250710T183000
SUMMARY:Modest Estate Auction: Everyday Items\, Decor & More
LOCATION:602 N. Bridge Street\, Carbondale\, IL 62901\, US
DESCRIPTION:From vintage media and Boy Scout patches to pottery planters
 \, jewelry\, and even a stacking washer/dryer\, there’s somet
 hing here for collectors\, resellers\, and treasure hunters al
 ike!
URL:https://www.ollisauction.com/auctions/detail/bw139929
SEQUENCE:1
END:VEVENT
END:VCALENDAR