BEGIN:VCALENDAR
VERSION:2.0
PRODID:-//ExpressionEngine Easy iCalendar plugin//NONSGML v2.0.1//EN
X-WR-TIMEZONE:America/Chicago
X-WR-CALNAME:Upcoming Auctions
BEGIN:VEVENT
UID:139925
DTSTAMP:20250612T164000
DTSTART:20250612T164000
DTEND:20250710T140000
SUMMARY:Historical Gem with Original Details: Victorian-Era Home Rea
 dy for Revival
LOCATION:602 N. Bridge Street\, Carbondale\, IL 62901\, US
DESCRIPTION:602 N Bridge Street\, Carbondale\, IL 62901   July 10\, 2025 T
 hursday 2:00 pm Call us today to schedule a showing 1-800-27
 2-9791
URL:https://www.ollisauction.com/auctions/detail/bw139925
SEQUENCE:1
END:VEVENT
END:VCALENDAR