BEGIN:VCALENDAR
VERSION:2.0
PRODID:-//ExpressionEngine Easy iCalendar plugin//NONSGML v2.0.1//EN
X-WR-TIMEZONE:America/Chicago
X-WR-CALNAME:Upcoming Auctions
BEGIN:VEVENT
UID:139923
DTSTAMP:20250528T090000
DTSTART:20250528T090000
DTEND:20250625T140000
SUMMARY:Ready for Your Magic Touch: Herrin Home at Online Auction
LOCATION:1405 W Harrison Street\, Herrin\, IL 62948\, US
DESCRIPTION:1405 W Harrison Street\, Herrin\, IL 62948 June 25\, 2024 Wedne
 sday 2:00 pm CDT Online Only Real Estate Auction Call us tod
 ay to schedule a showing 1-800-272-9791
URL:https://www.ollisauction.com/auctions/detail/bw139923
SEQUENCE:1
END:VEVENT
END:VCALENDAR