BEGIN:VCALENDAR
VERSION:2.0
PRODID:-//ExpressionEngine Easy iCalendar plugin//NONSGML v2.0.1//EN
X-WR-TIMEZONE:America/Chicago
X-WR-CALNAME:Upcoming Auctions
BEGIN:VEVENT
UID:136919
DTSTAMP:20250610T160000
DTSTART:20250610T160000
DTEND:20250617T183000
SUMMARY:Vehicles\, Tractors\, Equipment\, Tools\, Trailers & More
LOCATION:{location}
DESCRIPTION:LOCATION: 10365 State Rte. 146\, Buncombe\, IL 62912 PREVIEW:Â
  June 17\, 2025 Tuesday 2:00 pm to 5:00 pm Begins to End:Â Ju
 ne 17\, 2025 Tuesday at 6:30 pm PICK UP: June 18\, 2025 Wednes
 day from 11:00 am to 5:30 pm 15% Buyers PremiumÂ  Seller(s):
 Â Estate Of Sherman Mays
URL:https://www.ollisauction.com/auctions/detail/bw136919
SEQUENCE:1
END:VEVENT
END:VCALENDAR