BEGIN:VCALENDAR
VERSION:2.0
PRODID:-//ExpressionEngine Easy iCalendar plugin//NONSGML v2.0.1//EN
X-WR-TIMEZONE:America/Chicago
X-WR-CALNAME:Upcoming Auctions
BEGIN:VEVENT
UID:135706
DTSTAMP:20250219T083000
DTSTART:20250219T083000
DTEND:20250226T183000
SUMMARY:Art Glass\, Paperweights\, Fenton\, Carnival Glass & More
LOCATION:100 Lick Creek Road\, Anna\, IL 62906\, US
DESCRIPTION:LOCATION: 100 Lick Creek Rd. Anna\, IL 62906 PREVIEW: Februa
 ry 26\, 2025 Wednesday 2:00 pm to 5:00 pm Begins to End: Feb
 ruary 26\, 2025 Wednesday at 6:30 pm PICK UP: March 1\, 2025 S
 aturday from 11:00 am to 5:30 pm 15% Buyers Premium  Seller
 (s): The Estate of Paul Rhine
URL:https://www.ollisauction.com/auctions/detail/bw135706
SEQUENCE:1
END:VEVENT
END:VCALENDAR