BEGIN:VCALENDAR
VERSION:2.0
PRODID:-//ExpressionEngine Easy iCalendar plugin//NONSGML v2.0.1//EN
X-WR-TIMEZONE:America/Chicago
X-WR-CALNAME:Upcoming Auctions
BEGIN:VEVENT
UID:133323
DTSTAMP:20250109T090000
DTSTART:20250109T090000
DTEND:20250116T183000
SUMMARY:Pontoons\, Canoes\, Fishing Tackle\, Golf Cart & More
LOCATION:788 Hidden Bay Lane\, Makanda\, IL 62958\, US
DESCRIPTION:LOCATION: 788 Hidden Bay Lane\, Makanda\, IL 62958 PREVIEW: 
 January 16\, 2025 Thursday 2:00 pm to 5:00 pm Begins to End:
  January 16\, 2025 Thursday at 6:30 pm PICK UP: January 17\,
  2025 Friday from 11:00 am to 5:30 pm 15% Buyers Premium  
 Seller(s): Land for Learning Institute
URL:https://www.ollisauction.com/auctions/detail/bw133323
SEQUENCE:1
END:VEVENT
END:VCALENDAR