BEGIN:VCALENDAR
VERSION:2.0
PRODID:-//ExpressionEngine Easy iCalendar plugin//NONSGML v2.0.1//EN
X-WR-TIMEZONE:America/Chicago
X-WR-CALNAME:Upcoming Auctions
BEGIN:VEVENT
UID:132873
DTSTAMP:20241231T160000
DTSTART:20241231T160000
DTEND:20241231T170000
SUMMARY:Case IH 8230 Combine\, Tractors\, Trucks\, Trailers & More
LOCATION:State Forest Road & State Rte 3\, Wolf Lake\, IL 62998\, US
DESCRIPTION:CLICK ON INDIVIDUAL LOT TITLE FOR BIDDING LINK
URL:https://www.ollisauction.com/auctions/detail/bw132873
SEQUENCE:1
END:VEVENT
END:VCALENDAR