BEGIN:VCALENDAR
VERSION:2.0
PRODID:-//ExpressionEngine Easy iCalendar plugin//NONSGML v2.0.1//EN
X-WR-TIMEZONE:America/Chicago
X-WR-CALNAME:Upcoming Auctions
BEGIN:VEVENT
UID:132805
DTSTAMP:20241227T140000
DTSTART:20241227T140000
DTEND:20250123T140000
SUMMARY:Two Houses One with an Extra Lot and One with a Barn
LOCATION:102 E Callie St.\, Sesser \, IL 62884\, US
DESCRIPTION:Historic Neighboring Homes - Adjacent Properties on E Callie
  Street Online Only Auction 102 and 106 E Callie Street\, Ses
 ser\, IL 62884 January 23\, 2025 Thursday 2:00 pm To Pre-Bid o
 r for More Information Please Visit www.ollisauction.com Cal
 l us today to schedule a showing 1-800-272-9791
URL:https://www.ollisauction.com/auctions/detail/bw132805
SEQUENCE:1
END:VEVENT
END:VCALENDAR