BEGIN:VCALENDAR
VERSION:2.0
PRODID:-//ExpressionEngine Easy iCalendar plugin//NONSGML v2.0.1//EN
X-WR-TIMEZONE:America/Chicago
X-WR-CALNAME:Upcoming Auctions
BEGIN:VEVENT
UID:129259
DTSTAMP:20241107T100000
DTSTART:20241107T100000
DTEND:20241114T183000
SUMMARY:Firearms\, Tools\, Indian Artifacts\, Collectibles & More
LOCATION:1529 Club Rd.\, Carterville\, IL 62918\, US
DESCRIPTION:LOCATION: 1529 Club Rd.\, Carterville\, IL 62918 PREVIEW: Nov
 ember 14\, 2024 Thursday 2:00 pm to 5:00 pm Begins to End: N
 ovember 14\, 2024 Thursday at 6:30 pm PICK UP: November 15\, 2
 024 Friday from 11:00 am to 5:30 pm FIREARMS NOTE: Pick Up F
 or Firearms By Appointment. Lots 188\, 210\, 211\, & 212 May O
 nly Be Purchased by Non-Illinois Residents\, and Illinois Res
 idents that are Current or Past Law Enforcement\, Correctiona
 l Officers\, FFL's or\, Active Military in the Course of Activ
 e Duty. Do Not Bid\, If These Do Not Apply to You. Thanks! 15
 % Buyers Premium  Seller(s): Paul Hunsaker
URL:https://www.ollisauction.com/auctions/detail/bw129259
SEQUENCE:1
END:VEVENT
END:VCALENDAR