BEGIN:VCALENDAR
VERSION:2.0
PRODID:-//ExpressionEngine Easy iCalendar plugin//NONSGML v2.0.1//EN
X-WR-TIMEZONE:America/Chicago
X-WR-CALNAME:Upcoming Auctions
BEGIN:VEVENT
UID:120068
DTSTAMP:20240502T161200
DTSTART:20240502T161200
DTEND:20240530T140000
SUMMARY:Bid Your Way to Country Living: Rockwood Home Ready for New 
 Owner at Auction
LOCATION:2589 Jones Ridge Road\, Rockwood\, IL 62280\, US
DESCRIPTION:Bid Your Way to Country Living: Rockwood Home Ready for New 
 Owner at Auction  Discover the opportunity to own a charmin
 g 3-bedroom\, 1-bathroom home\, in our online only auction.  
 Nestled in a peaceful country setting\, this property offers 
 the tranquility of rural living while still having the comfo
 rt of neighbors nearby. 
URL:https://www.ollisauction.com/auctions/detail/bw120068
SEQUENCE:1
END:VEVENT
END:VCALENDAR