BEGIN:VCALENDAR
VERSION:2.0
PRODID:-//ExpressionEngine Easy iCalendar plugin//NONSGML v2.0.1//EN
X-WR-TIMEZONE:America/Chicago
X-WR-CALNAME:Upcoming Auctions
BEGIN:VEVENT
UID:117181
DTSTAMP:20240314T101700
DTSTART:20240314T101700
DTEND:20240321T183000
SUMMARY:2012 Chevy Traverse\, Household\, Tools & More Online Only Auc
 tion
LOCATION:12154 Burghoff St.\, Carbondale\, IL 62901\, US
DESCRIPTION:Carbondale\, IL 
URL:https://www.ollisauction.com/auctions/detail/bw117181
SEQUENCE:1
END:VEVENT
END:VCALENDAR