BEGIN:VCALENDAR
VERSION:2.0
PRODID:-//ExpressionEngine Easy iCalendar plugin//NONSGML v2.0.1//EN
X-WR-TIMEZONE:America/Chicago
X-WR-CALNAME:Upcoming Auctions
BEGIN:VEVENT
UID:117087
DTSTAMP:20240312T143700
DTSTART:20240312T143700
DTEND:20240319T183000
SUMMARY:Advertising\, Electronic Tubes & Parts\, Pocket Watches\, Colle
 ctibles & More Online Only Auction
LOCATION:1350 E Park St.\, Carbondale\, IL 62901\, US
DESCRIPTION:Carbondale\, IL
URL:https://www.ollisauction.com/auctions/detail/bw117087
SEQUENCE:1
END:VEVENT
END:VCALENDAR