BEGIN:VCALENDAR
VERSION:2.0
PRODID:-//ExpressionEngine Easy iCalendar plugin//NONSGML v2.0.1//EN
X-WR-TIMEZONE:America/Chicago
X-WR-CALNAME:Upcoming Auctions
BEGIN:VEVENT
UID:116397
DTSTAMP:20240229T092900
DTSTART:20240229T092900
DTEND:20240328T140000
SUMMARY:Unique Building with Medical and Commercial Repurpose Opport
 unity
LOCATION:110 E Clark St.\, Harrisburg\, IL 62946\, US
DESCRIPTION:Harrisburg\, IL 
URL:https://www.ollisauction.com/auctions/detail/bw116397
SEQUENCE:1
END:VEVENT
END:VCALENDAR