BEGIN:VCALENDAR
VERSION:2.0
PRODID:-//ExpressionEngine Easy iCalendar plugin//NONSGML v2.0.1//EN
X-WR-TIMEZONE:America/Chicago
X-WR-CALNAME:Upcoming Auctions
BEGIN:VEVENT
UID:116330
DTSTAMP:20240229T104500
DTSTART:20240229T104500
DTEND:20240307T183000
SUMMARY:Pinball Machine\, Sauna\, Household\, Collectibles & More Onlin
 e Only Auction
LOCATION:320 Brady Mill Rd.\, Anna\, IL 62906\, US
DESCRIPTION:Anna\, IL
URL:https://www.ollisauction.com/auctions/detail/bw116330
SEQUENCE:1
END:VEVENT
END:VCALENDAR