BEGIN:VCALENDAR
VERSION:2.0
PRODID:-//ExpressionEngine Easy iCalendar plugin//NONSGML v2.0.1//EN
X-WR-TIMEZONE:America/Chicago
X-WR-CALNAME:Upcoming Auctions
BEGIN:VEVENT
UID:115118
DTSTAMP:20240207T092700
DTSTART:20240207T092700
DTEND:20240307T140000
SUMMARY:3 Bed\, 2 Bath Family Home with Endless Potential Online Only
  Auction
LOCATION:320 Brady Mill Rd.\, Anna\, IL 62906\, US
DESCRIPTION:Anna\, IL 
URL:https://www.ollisauction.com/auctions/detail/bw115118
SEQUENCE:1
END:VEVENT
END:VCALENDAR