BEGIN:VCALENDAR
VERSION:2.0
PRODID:-//ExpressionEngine Easy iCalendar plugin//NONSGML v2.0.1//EN
X-WR-TIMEZONE:America/Chicago
X-WR-CALNAME:Upcoming Auctions
BEGIN:VEVENT
UID:114805
DTSTAMP:20240201T140500
DTSTART:20240201T140500
DTEND:20240215T183000
SUMMARY:Tractors\, Trucks\, Trailers\, Equipment\, Tools\, Hunting\, Furni
 ture &  Much More Online Only Auction
LOCATION:20598 Maggie Lane\, Tamms\, IL 62988\, US
DESCRIPTION:Tamms\, IL
URL:https://www.ollisauction.com/auctions/detail/bw114805
SEQUENCE:1
END:VEVENT
END:VCALENDAR