BEGIN:VCALENDAR
VERSION:2.0
PRODID:-//ExpressionEngine Easy iCalendar plugin//NONSGML v2.0.1//EN
X-WR-TIMEZONE:America/Chicago
X-WR-CALNAME:Upcoming Auctions
BEGIN:VEVENT
UID:114446
DTSTAMP:20240125T125900
DTSTART:20240125T125900
DTEND:20240201T183000
SUMMARY:Furniture\, Household\, Collectibles & More Online Only Auctio
 n
LOCATION:100 Lick Creek Road\, Anna\, IL 62906\, US
DESCRIPTION:Anna\, IL
URL:https://www.ollisauction.com/auctions/detail/bw114446
SEQUENCE:1
END:VEVENT
END:VCALENDAR