BEGIN:VCALENDAR
VERSION:2.0
PRODID:-//ExpressionEngine Easy iCalendar plugin//NONSGML v2.0.1//EN
X-WR-TIMEZONE:America/Chicago
X-WR-CALNAME:Upcoming Auctions
BEGIN:VEVENT
UID:113735
DTSTAMP:20240110T152600
DTSTART:20240110T152600
DTEND:20240118T183000
SUMMARY:Relics Revealed: The Maginel Artifact Collection & More
LOCATION:100 Lick Creek Road\, Anna\, IL 62906\, US
DESCRIPTION:Anna\, IL
URL:https://www.ollisauction.com/auctions/detail/bw113735
SEQUENCE:1
END:VEVENT
END:VCALENDAR