BEGIN:VCALENDAR
VERSION:2.0
PRODID:-//ExpressionEngine Easy iCalendar plugin//NONSGML v2.0.1//EN
X-WR-TIMEZONE:America/Chicago
X-WR-CALNAME:Upcoming Auctions
BEGIN:VEVENT
UID:112964
DTSTAMP:20231221T163200
DTSTART:20231221T163200
DTEND:20231228T183000
SUMMARY:Advertising\, Crocks\, Meat Processing\, Household & More Onlin
 e Only Auction
LOCATION:1250 East Park Street\, Carbondale\, IL 62901\, US
DESCRIPTION:Carbondale\, IL
URL:https://www.ollisauction.com/auctions/detail/bw112964
SEQUENCE:1
END:VEVENT
END:VCALENDAR