BEGIN:VCALENDAR
VERSION:2.0
PRODID:-//ExpressionEngine Easy iCalendar plugin//NONSGML v2.0.1//EN
X-WR-TIMEZONE:America/Chicago
X-WR-CALNAME:Upcoming Auctions
BEGIN:VEVENT
UID:112834
DTSTAMP:20231219T112100
DTSTART:20231219T112100
DTEND:20231226T183000
SUMMARY:Vintage Lamps And Parts\, 1800'S Paper Goods\, Coins\, Antiques
 \, Tools\, Household & More Online Only Auction
LOCATION:100 Lick Creek Road\, Anna\, IL 62906\, US
DESCRIPTION:Anna\, IL
URL:https://www.ollisauction.com/auctions/detail/bw112834
SEQUENCE:1
END:VEVENT
END:VCALENDAR