BEGIN:VCALENDAR
VERSION:2.0
PRODID:-//ExpressionEngine Easy iCalendar plugin//NONSGML v2.0.1//EN
X-WR-TIMEZONE:America/Chicago
X-WR-CALNAME:Upcoming Auctions
BEGIN:VEVENT
UID:112411
DTSTAMP:20231207T225600
DTSTART:20231207T225600
DTEND:20231214T183000
SUMMARY:Farm Equipment\, Mower\, Tools\, Antiques\, Household & More
LOCATION:1195 Beech Grove Rd.\, Wolf Lake \, IL 62998\, US
DESCRIPTION:Wolf Lake\, IL 
URL:https://www.ollisauction.com/auctions/detail/bw112411
SEQUENCE:1
END:VEVENT
END:VCALENDAR